BEGIN:VCALENDAR
VERSION:2.0
CALSCALE:GREGORIAN
PRODID:-//Diputació de Barcelona//DibaCMS//EN
BEGIN:VEVENT
UID:10497
DTSTAMP:20260421T031810
DTSTART:20240502T183000
DTEND:20240502T200000
SUMMARY:3a trobada per a la creació d'un grup de consum alimentari a Vallgorguina
LOCATION:Sala Polivalent Associació de Veïns de Can Puigdemir 
METHOD:PUBLISH
X-WR-CALNAME:vallgorguina@vallgorguina.cat
X-WR-TIMEZONE:Europe/Madrid
DESCRIPTION:
URI:https://www.vallgorguina.cat/actualitat/agenda/3a-trobada-per-a-la-creacio-dun-grup-de-consum-alimentari-a-vallgorguina.html
CLASS:PUBLIC
END:VEVENT
END:VCALENDAR
