BEGIN:VCALENDAR
VERSION:2.0
CALSCALE:GREGORIAN
PRODID:-//Diputació de Barcelona//DibaCMS//EN
BEGIN:VEVENT
UID:10498
DTSTAMP:20260421T031842
DTSTART:20240504T120000
DTEND:20240504T120000
SUMMARY:Presentació "Olla de bruixes Vallgorguina"
LOCATION:Plaça de la Vila.
(Si plou: Sala d'exposició "L'iglú") 
METHOD:PUBLISH
X-WR-CALNAME:vallgorguina@vallgorguina.cat
X-WR-TIMEZONE:Europe/Madrid
DESCRIPTION:
URI:https://www.vallgorguina.cat/actualitat/agenda/presentacio-olla-de-bruixes-vallgorguina.html
CLASS:PUBLIC
END:VEVENT
END:VCALENDAR
