BEGIN:VCALENDAR
VERSION:2.0
CALSCALE:GREGORIAN
PRODID:-//Diputació de Barcelona//DibaCMS//EN
BEGIN:VEVENT
UID:10520
DTSTAMP:20260420T232513
DTSTART:20240615T180000
DTEND:20240615T180000
SUMMARY:Sardanes inèdites a Vallgorguina
LOCATION:Plaça Mossèn Narcís Seguer 
METHOD:PUBLISH
X-WR-CALNAME:vallgorguina@vallgorguina.cat
X-WR-TIMEZONE:Europe/Madrid
DESCRIPTION:
URI:https://www.vallgorguina.cat/actualitat/agenda/sardanes-inedites-a-vallgorguina.html
CLASS:PUBLIC
END:VEVENT
END:VCALENDAR
