BEGIN:VCALENDAR
VERSION:2.0
CALSCALE:GREGORIAN
PRODID:-//Diputació de Barcelona//DibaCMS//EN
BEGIN:VEVENT
UID:10521
DTSTAMP:20260420T231825
DTSTART:20240615T120000
DTEND:20240615T170000
SUMMARY:Concert Microsons
LOCATION:Carrer de l'Ésglésia, 13 (darrere del Casal del poble) 08471 Vallgorguina
METHOD:PUBLISH
X-WR-CALNAME:vallgorguina@vallgorguina.cat
X-WR-TIMEZONE:Europe/Madrid
DESCRIPTION:
URI:https://www.vallgorguina.cat/actualitat/agenda/concert-microsons.html
CLASS:PUBLIC
END:VEVENT
END:VCALENDAR
