BEGIN:VCALENDAR
VERSION:2.0
CALSCALE:GREGORIAN
PRODID:-//Diputació de Barcelona//DibaCMS//EN
BEGIN:VEVENT
UID:10525
DTSTAMP:20260421T012825
DTSTART:20240524T000000
DTEND:20240524T000000
SUMMARY:Gran Recapte de Llet! Ningú sense bigoti 
LOCATION:
METHOD:PUBLISH
X-WR-CALNAME:vallgorguina@vallgorguina.cat
X-WR-TIMEZONE:Europe/Madrid
DESCRIPTION:
URI:https://www.vallgorguina.cat/actualitat/agenda/gran-recapte-de-llet-ningu-sense-bigoti-.html
CLASS:PUBLIC
END:VEVENT
END:VCALENDAR
