BEGIN:VCALENDAR
VERSION:2.0
CALSCALE:GREGORIAN
PRODID:-//Diputació de Barcelona//DibaCMS//EN
BEGIN:VEVENT
UID:10536
DTSTAMP:20260421T012338
DTSTART:20240525T100000
DTEND:20240525T130000
SUMMARY:Robotseny
LOCATION:La Recotria Vella - Sant Celoni 
 
METHOD:PUBLISH
X-WR-CALNAME:vallgorguina@vallgorguina.cat
X-WR-TIMEZONE:Europe/Madrid
DESCRIPTION:
URI:https://www.vallgorguina.cat/actualitat/agenda/10536-robotseny.html
CLASS:PUBLIC
END:VEVENT
END:VCALENDAR
