BEGIN:VCALENDAR
VERSION:2.0
CALSCALE:GREGORIAN
PRODID:-//Diputació de Barcelona//DibaCMS//EN
BEGIN:VEVENT
UID:10543
DTSTAMP:20260421T010945
DTSTART:20240615T210000
DTEND:20240615T210000
SUMMARY:Dia mundial de la presa de consciència de l'abús i el maltractament a les persones grans
LOCATION:
METHOD:PUBLISH
X-WR-CALNAME:vallgorguina@vallgorguina.cat
X-WR-TIMEZONE:Europe/Madrid
DESCRIPTION:
URI:https://www.vallgorguina.cat/actualitat/agenda/dia-mundial-de-la-presa-de-consciencia-de-labus-i-el-maltractament-a-les-persones-grans.html
CLASS:PUBLIC
END:VEVENT
END:VCALENDAR
