BEGIN:VCALENDAR
VERSION:2.0
CALSCALE:GREGORIAN
PRODID:-//Diputació de Barcelona//DibaCMS//EN
BEGIN:VEVENT
UID:10571
DTSTAMP:20260420T212702
DTSTART:20240702T070000
DTEND:20240702T130000
SUMMARY:Recollida voluminosos juliol i agost 2024
LOCATION:
METHOD:PUBLISH
X-WR-CALNAME:vallgorguina@vallgorguina.cat
X-WR-TIMEZONE:Europe/Madrid
DESCRIPTION:
URI:https://www.vallgorguina.cat/actualitat/agenda/recollida-voluminosos-juliol-i-agost-2024.html
CLASS:PUBLIC
END:VEVENT
END:VCALENDAR
