BEGIN:VCALENDAR
VERSION:2.0
CALSCALE:GREGORIAN
PRODID:-//Diputació de Barcelona//DibaCMS//EN
BEGIN:VEVENT
UID:10575
DTSTAMP:20260420T232357
DTSTART:20240628T000000
DTEND:20240628T000000
SUMMARY:Dia Internacional de l'Orgull LGBTIQ+ 
LOCATION:
METHOD:PUBLISH
X-WR-CALNAME:vallgorguina@vallgorguina.cat
X-WR-TIMEZONE:Europe/Madrid
DESCRIPTION:
URI:https://www.vallgorguina.cat/actualitat/agenda/dia-internacional-de-lorgull-lgbtiq-.html
CLASS:PUBLIC
END:VEVENT
END:VCALENDAR
