BEGIN:VCALENDAR
VERSION:2.0
CALSCALE:GREGORIAN
PRODID:-//Diputació de Barcelona//DibaCMS//EN
BEGIN:VEVENT
UID:10578
DTSTAMP:20260420T213011
DTSTART:20240816T000000
DTEND:20240816T000000
SUMMARY:Caminada Sota la llum de la Lluna
LOCATION:
METHOD:PUBLISH
X-WR-CALNAME:vallgorguina@vallgorguina.cat
X-WR-TIMEZONE:Europe/Madrid
DESCRIPTION:
URI:https://www.vallgorguina.cat/actualitat/agenda/10578-caminada-sota-la-llum-de-la-lluna.html
CLASS:PUBLIC
END:VEVENT
END:VCALENDAR
