BEGIN:VCALENDAR
VERSION:2.0
CALSCALE:GREGORIAN
PRODID:-//Diputació de Barcelona//DibaCMS//EN
BEGIN:VEVENT
UID:10589
DTSTAMP:20260420T213052
DTSTART:20240705T110000
DTEND:20240705T110000
SUMMARY:Taller per a joves: Vull treballar, per on començo?
LOCATION:
METHOD:PUBLISH
X-WR-CALNAME:vallgorguina@vallgorguina.cat
X-WR-TIMEZONE:Europe/Madrid
DESCRIPTION:
URI:https://www.vallgorguina.cat/actualitat/agenda/taller-per-a-joves-vull-treballar-per-on-comenco.html
CLASS:PUBLIC
END:VEVENT
END:VCALENDAR
