BEGIN:VCALENDAR
VERSION:2.0
CALSCALE:GREGORIAN
PRODID:-//Diputació de Barcelona//DibaCMS//EN
BEGIN:VEVENT
UID:10612
DTSTAMP:20260420T193207
DTSTART:20240829T000000
DTEND:20240829T000000
SUMMARY:⚽Trobada de futbol infantil i juvenil⚽ 
LOCATION:
METHOD:PUBLISH
X-WR-CALNAME:vallgorguina@vallgorguina.cat
X-WR-TIMEZONE:Europe/Madrid
DESCRIPTION:
URI:https://www.vallgorguina.cat/actualitat/agenda/10612-trobada-de-futbol-infantil-i-juvenil-.html
CLASS:PUBLIC
END:VEVENT
END:VCALENDAR
