BEGIN:VCALENDAR
VERSION:2.0
CALSCALE:GREGORIAN
PRODID:-//Diputació de Barcelona//DibaCMS//EN
BEGIN:VEVENT
UID:10647
DTSTAMP:20260420T191110
DTSTART:20240923T173000
DTEND:20240923T190000
SUMMARY:FM 2024 | ESCAPE CITY 🔎📱 El vilatà/ana de l'any
LOCATION:
METHOD:PUBLISH
X-WR-CALNAME:vallgorguina@vallgorguina.cat
X-WR-TIMEZONE:Europe/Madrid
DESCRIPTION:
URI:https://www.vallgorguina.cat/temes/cultura-popular-i-esdeveniments/festa-major-de-la-merce-2024/entrades-i-inscripcions-fm/fm-2024--escape-city--el-vilataana-de-lany.html
CLASS:PUBLIC
END:VEVENT
END:VCALENDAR
