BEGIN:VCALENDAR
VERSION:2.0
CALSCALE:GREGORIAN
PRODID:-//Diputació de Barcelona//DibaCMS//EN
BEGIN:VEVENT
UID:10653
DTSTAMP:20260420T170146
DTSTART:20240929T160000
DTEND:20240929T160000
SUMMARY:FM 2024| Final campionat de dòmino "MEMORIAL ANTONI FERNÁNDEZ”
LOCATION:Carrer de l'Ésglésia, 13 (darrere del Casal del poble) 08471 Vallgorguina
METHOD:PUBLISH
X-WR-CALNAME:vallgorguina@vallgorguina.cat
X-WR-TIMEZONE:Europe/Madrid
DESCRIPTION:
URI:https://www.vallgorguina.cat/temes/cultura-popular-i-esdeveniments/festa-major-de-la-merce-2024/entrades-i-inscripcions-fm/fm-2024-final-campionat-de-domino-memorial-antoni-fernandez.html
CLASS:PUBLIC
END:VEVENT
END:VCALENDAR
