BEGIN:VCALENDAR
VERSION:2.0
CALSCALE:GREGORIAN
PRODID:-//Diputació de Barcelona//DibaCMS//EN
BEGIN:VEVENT
UID:10664
DTSTAMP:20260420T172546
DTSTART:20240922T120000
DTEND:20240922T120000
SUMMARY:FM 2024 | 38A TROBADA DE GEGANTS
LOCATION:
METHOD:PUBLISH
X-WR-CALNAME:vallgorguina@vallgorguina.cat
X-WR-TIMEZONE:Europe/Madrid
DESCRIPTION:
URI:https://www.vallgorguina.cat/temes/cultura-popular-i-esdeveniments/festa-major-de-la-merce-2024/entrades-i-inscripcions-fm/fm-2024--38a-trobada-de-gegants.html
CLASS:PUBLIC
END:VEVENT
END:VCALENDAR
