BEGIN:VCALENDAR
VERSION:2.0
CALSCALE:GREGORIAN
PRODID:-//Diputació de Barcelona//DibaCMS//EN
BEGIN:VEVENT
UID:10677
DTSTAMP:20260422T150449
DTSTART:20241004T190000
DTEND:20241004T190000
SUMMARY:SETMANA DE LA GENT GRAN A VALLGORGUINA - Lectura manifest  Dia Internacional de la Gent Gran.
LOCATION:08471 Vallgorguina
METHOD:PUBLISH
X-WR-CALNAME:vallgorguina@vallgorguina.cat
X-WR-TIMEZONE:Europe/Madrid
DESCRIPTION:
URI:https://www.vallgorguina.cat/actualitat/agenda/setmana-de-la-gent-gran-a-vallgorguina-lectura-manifest-dia-internacional-de-la-gent-gran.html
CLASS:PUBLIC
END:VEVENT
END:VCALENDAR
