BEGIN:VCALENDAR
VERSION:2.0
CALSCALE:GREGORIAN
PRODID:-//Diputació de Barcelona//DibaCMS//EN
BEGIN:VEVENT
UID:10678
DTSTAMP:20260420T155235
DTSTART:20241004T191500
DTEND:20241004T191500
SUMMARY:SETMANA DE LA GENT GRAN A VALLGORGUINA - Quina musical
LOCATION:08471 Vallgorguina
METHOD:PUBLISH
X-WR-CALNAME:vallgorguina@vallgorguina.cat
X-WR-TIMEZONE:Europe/Madrid
DESCRIPTION:
URI:https://www.vallgorguina.cat/actualitat/agenda/setmana-de-la-gent-gran-a-vallgorguina-quina-musical.html
CLASS:PUBLIC
END:VEVENT
END:VCALENDAR
