BEGIN:VCALENDAR
VERSION:2.0
CALSCALE:GREGORIAN
PRODID:-//Diputació de Barcelona//DibaCMS//EN
BEGIN:VEVENT
UID:10679
DTSTAMP:20260422T111506
DTSTART:20241005T100000
DTEND:20241005T140000
SUMMARY:20è Aniversari Avet Blau
LOCATION:
METHOD:PUBLISH
X-WR-CALNAME:vallgorguina@vallgorguina.cat
X-WR-TIMEZONE:Europe/Madrid
DESCRIPTION:
URI:https://www.vallgorguina.cat/actualitat/agenda/20e-aniversari-avet-blau.html
CLASS:PUBLIC
END:VEVENT
END:VCALENDAR
