BEGIN:VCALENDAR
VERSION:2.0
CALSCALE:GREGORIAN
PRODID:-//Diputació de Barcelona//DibaCMS//EN
BEGIN:VEVENT
UID:10692
DTSTAMP:20260420T204910
DTSTART:20241019T170000
DTEND:20241019T170000
SUMMARY:ACTIVITAT: Com fer el canvi de temporada del teu armari 
LOCATION:08471 Vallgorguina
METHOD:PUBLISH
X-WR-CALNAME:vallgorguina@vallgorguina.cat
X-WR-TIMEZONE:Europe/Madrid
DESCRIPTION:
URI:https://www.vallgorguina.cat/actualitat/agenda/activitat-com-fer-el-canvi-de-temporada-del-teu-armari-.html
CLASS:PUBLIC
END:VEVENT
END:VCALENDAR
