BEGIN:VCALENDAR
VERSION:2.0
CALSCALE:GREGORIAN
PRODID:-//Diputació de Barcelona//DibaCMS//EN
BEGIN:VEVENT
UID:10721
DTSTAMP:20260420T100650
DTSTART:20241224T000000
DTEND:20241227T000000
SUMMARY:CASAL DE NADAL 🌟
LOCATION:
METHOD:PUBLISH
X-WR-CALNAME:vallgorguina@vallgorguina.cat
X-WR-TIMEZONE:Europe/Madrid
DESCRIPTION:
URI:https://www.vallgorguina.cat/actualitat/agenda/10721-casal-de-nadal-.html
CLASS:PUBLIC
END:VEVENT
END:VCALENDAR
