BEGIN:VCALENDAR
VERSION:2.0
CALSCALE:GREGORIAN
PRODID:-//Diputació de Barcelona//DibaCMS//EN
BEGIN:VEVENT
UID:10729
DTSTAMP:20260420T115108
DTSTART:20241209T091000
DTEND:20241209T101000
SUMMARY:Banca mòbil de Catalunya - Caixa d'Enginyers
LOCATION:Plaça Mossèn Narcís Saguer (Plaça de la Bàscula) 
METHOD:PUBLISH
X-WR-CALNAME:vallgorguina@vallgorguina.cat
X-WR-TIMEZONE:Europe/Madrid
DESCRIPTION:
URI:https://www.vallgorguina.cat/actualitat/agenda/banca-mobil-de-catalunya-caixa-denginyers.html
CLASS:PUBLIC
END:VEVENT
END:VCALENDAR
