BEGIN:VCALENDAR
VERSION:2.0
CALSCALE:GREGORIAN
PRODID:-//Diputació de Barcelona//DibaCMS//EN
BEGIN:VEVENT
UID:10732
DTSTAMP:20260420T100210
DTSTART:20241221T180000
DTEND:20241221T180000
SUMMARY:✨ Pessebre vivent ✨
LOCATION:Plaça de la Vila 
METHOD:PUBLISH
X-WR-CALNAME:vallgorguina@vallgorguina.cat
X-WR-TIMEZONE:Europe/Madrid
DESCRIPTION:
URI:https://www.vallgorguina.cat/actualitat/agenda/-pessebre-vivent-.html
CLASS:PUBLIC
END:VEVENT
END:VCALENDAR
