BEGIN:VCALENDAR
VERSION:2.0
CALSCALE:GREGORIAN
PRODID:-//Diputació de Barcelona//DibaCMS//EN
BEGIN:VEVENT
UID:10736
DTSTAMP:20260422T165013
DTSTART:20241129T000000
DTEND:20241130T000000
SUMMARY:Festa Major de Sant Andreu
LOCATION:
METHOD:PUBLISH
X-WR-CALNAME:vallgorguina@vallgorguina.cat
X-WR-TIMEZONE:Europe/Madrid
DESCRIPTION:Consulta tota la programació de la Festa Major de Sant Andreu, clicant aquest enllaç

URI:https://www.vallgorguina.cat/actualitat/agenda/festa-major-de-sant-andreu.html
CLASS:PUBLIC
END:VEVENT
END:VCALENDAR
