BEGIN:VCALENDAR
VERSION:2.0
CALSCALE:GREGORIAN
PRODID:-//Diputació de Barcelona//DibaCMS//EN
BEGIN:VEVENT
UID:10737
DTSTAMP:20260422T125837
DTSTART:20241129T200000
DTEND:20241129T200000
SUMMARY:Festa Major de Sant Andreu - Tast de vins de Vinyes del Monseny i de les Garrigues
LOCATION:Museu del Bosc i la Pagesia 
METHOD:PUBLISH
X-WR-CALNAME:vallgorguina@vallgorguina.cat
X-WR-TIMEZONE:Europe/Madrid
DESCRIPTION:Consulta tota la programació de la Festa Major de Sant Andreu, clicant aquest enllaç

URI:https://www.vallgorguina.cat/actualitat/agenda/festa-major-de-sant-andreu-tast-de-vins-de-vinyes-del-monseny-i-de-les-garrigues.html
CLASS:PUBLIC
END:VEVENT
END:VCALENDAR
