BEGIN:VCALENDAR
VERSION:2.0
CALSCALE:GREGORIAN
PRODID:-//Diputació de Barcelona//DibaCMS//EN
BEGIN:VEVENT
UID:10740
DTSTAMP:20260420T115336
DTSTART:20241130T193000
DTEND:20241130T193000
SUMMARY:Festa Major de Sant Andreu - Remember l’Iglú
LOCATION:Carrer de l'Ésglésia, 13 (darrere del Casal del poble) 08471 Vallgorguina
METHOD:PUBLISH
X-WR-CALNAME:vallgorguina@vallgorguina.cat
X-WR-TIMEZONE:Europe/Madrid
DESCRIPTION:Consulta tota la programació de la Festa Major de Sant Andreu, clicant aquest enllaç

URI:https://www.vallgorguina.cat/actualitat/agenda/festa-major-de-sant-andreu-remember-liglu.html
CLASS:PUBLIC
END:VEVENT
END:VCALENDAR
