BEGIN:VCALENDAR
VERSION:2.0
CALSCALE:GREGORIAN
PRODID:-//Diputació de Barcelona//DibaCMS//EN
BEGIN:VEVENT
UID:10755
DTSTAMP:20260420T133605
DTSTART:20241130T100000
DTEND:20241130T130000
SUMMARY:Passejades guiades - Tardor als Fondals 
LOCATION:
METHOD:PUBLISH
X-WR-CALNAME:vallgorguina@vallgorguina.cat
X-WR-TIMEZONE:Europe/Madrid
DESCRIPTION:
URI:https://www.vallgorguina.cat/actualitat/agenda/passejades-guiades-tardor-als-fondals-.html
CLASS:PUBLIC
END:VEVENT
END:VCALENDAR
