BEGIN:VCALENDAR
VERSION:2.0
CALSCALE:GREGORIAN
PRODID:-//Diputació de Barcelona//DibaCMS//EN
BEGIN:VEVENT
UID:10779
DTSTAMP:20260420T095005
DTSTART:20241224T180000
DTEND:20241224T180000
SUMMARY:Tió Popular
LOCATION:Plaça de la Vila 
METHOD:PUBLISH
X-WR-CALNAME:vallgorguina@vallgorguina.cat
X-WR-TIMEZONE:Europe/Madrid
DESCRIPTION:
URI:https://www.vallgorguina.cat/actualitat/agenda/tio-popular.html
CLASS:PUBLIC
END:VEVENT
END:VCALENDAR
