BEGIN:VCALENDAR
VERSION:2.0
CALSCALE:GREGORIAN
PRODID:-//Diputació de Barcelona//DibaCMS//EN
BEGIN:VEVENT
UID:10786
DTSTAMP:20260420T094818
DTSTART:20241228T235900
DTEND:20241229T030000
SUMMARY:Festa Jove
LOCATION:08471 Vallgorguina
METHOD:PUBLISH
X-WR-CALNAME:vallgorguina@vallgorguina.cat
X-WR-TIMEZONE:Europe/Madrid
DESCRIPTION:
URI:https://www.vallgorguina.cat/actualitat/agenda/festa-jove.html
CLASS:PUBLIC
END:VEVENT
END:VCALENDAR
