BEGIN:VCALENDAR
VERSION:2.0
CALSCALE:GREGORIAN
PRODID:-//Diputació de Barcelona//DibaCMS//EN
BEGIN:VEVENT
UID:10788
DTSTAMP:20260420T132044
DTSTART:20241229T123000
DTEND:20241229T133000
SUMMARY:Carta al Patge Reial - La Baronia del Montseny
LOCATION:Local Associació de veïns de La Baronia del Montseny 
METHOD:PUBLISH
X-WR-CALNAME:vallgorguina@vallgorguina.cat
X-WR-TIMEZONE:Europe/Madrid
DESCRIPTION:
URI:https://www.vallgorguina.cat/actualitat/agenda/carta-al-patge-reial-la-baronia-del-montseny.html
CLASS:PUBLIC
END:VEVENT
END:VCALENDAR
