BEGIN:VCALENDAR
VERSION:2.0
CALSCALE:GREGORIAN
PRODID:-//Diputació de Barcelona//DibaCMS//EN
BEGIN:VEVENT
UID:10871
DTSTAMP:20260420T082613
DTSTART:20250214T000000
DTEND:20250214T000000
SUMMARY: Dia Internacional de les Cardiopaties Congènites
LOCATION:
METHOD:PUBLISH
X-WR-CALNAME:vallgorguina@vallgorguina.cat
X-WR-TIMEZONE:Europe/Madrid
DESCRIPTION:
URI:https://www.vallgorguina.cat/actualitat/agenda/10871--dia-internacional-de-les-cardiopaties-congenites.html
CLASS:PUBLIC
END:VEVENT
END:VCALENDAR
