BEGIN:VCALENDAR
VERSION:2.0
CALSCALE:GREGORIAN
PRODID:-//Diputació de Barcelona//DibaCMS//EN
BEGIN:VEVENT
UID:10875
DTSTAMP:20260420T075531
DTSTART:20250217T143000
DTEND:20250217T161500
SUMMARY:Jornada de portes obertes - Escola Vallgorguina
LOCATION:
METHOD:PUBLISH
X-WR-CALNAME:vallgorguina@vallgorguina.cat
X-WR-TIMEZONE:Europe/Madrid
DESCRIPTION:
URI:https://www.vallgorguina.cat/actualitat/agenda/10875-jornada-de-portes-obertes-escola-vallgorguina.html
CLASS:PUBLIC
END:VEVENT
END:VCALENDAR
