BEGIN:VCALENDAR
VERSION:2.0
CALSCALE:GREGORIAN
PRODID:-//Diputació de Barcelona//DibaCMS//EN
BEGIN:VEVENT
UID:10892
DTSTAMP:20260420T063220
DTSTART:20250320T092000
DTEND:20250320T110500
SUMMARY:Banca mòbil de Catalunya - Caixa Bank
LOCATION:Plaça Mossèn Narcís Saguer (Plaça de la Bàscula) 
METHOD:PUBLISH
X-WR-CALNAME:vallgorguina@vallgorguina.cat
X-WR-TIMEZONE:Europe/Madrid
DESCRIPTION:
URI:https://www.vallgorguina.cat/actualitat/agenda/10892-banca-mobil-de-catalunya-caixa-bank.html
CLASS:PUBLIC
END:VEVENT
END:VCALENDAR
