BEGIN:VCALENDAR
VERSION:2.0
CALSCALE:GREGORIAN
PRODID:-//Diputació de Barcelona//DibaCMS//EN
BEGIN:VEVENT
UID:10896
DTSTAMP:20260420T082129
DTSTART:20250305T173000
DTEND:20250305T173000
SUMMARY:8M -  Cinefòrum “Dona, vida, llibertat” + Berenar
LOCATION:Carrer de l'Ésglésia, 13 (darrere del Casal del poble) 08471 Vallgorguina
METHOD:PUBLISH
X-WR-CALNAME:vallgorguina@vallgorguina.cat
X-WR-TIMEZONE:Europe/Madrid
DESCRIPTION:Organitza: Olla de Bruixes

URI:https://www.vallgorguina.cat/actualitat/agenda/8m-cineforum-dona-vida-llibertat--berenar.html
CLASS:PUBLIC
END:VEVENT
END:VCALENDAR
