BEGIN:VCALENDAR
VERSION:2.0
CALSCALE:GREGORIAN
PRODID:-//Diputació de Barcelona//DibaCMS//EN
BEGIN:VEVENT
UID:10897
DTSTAMP:20260420T075043
DTSTART:20250308T120000
DTEND:20250308T183000
SUMMARY:8M  
LOCATION:
METHOD:PUBLISH
X-WR-CALNAME:vallgorguina@vallgorguina.cat
X-WR-TIMEZONE:Europe/Madrid
DESCRIPTION:Organitza: Olla de Bruixes

URI:https://www.vallgorguina.cat/actualitat/agenda/8m-.html
CLASS:PUBLIC
END:VEVENT
END:VCALENDAR
