BEGIN:VCALENDAR
VERSION:2.0
CALSCALE:GREGORIAN
PRODID:-//Diputació de Barcelona//DibaCMS//EN
BEGIN:VEVENT
UID:10912
DTSTAMP:20260420T061654
DTSTART:20250329T183000
DTEND:20250329T200000
SUMMARY:Taller matrícules CAT
LOCATION:
METHOD:PUBLISH
X-WR-CALNAME:vallgorguina@vallgorguina.cat
X-WR-TIMEZONE:Europe/Madrid
DESCRIPTION:A la Sala d'Exposicions de Vallgorguina. 

URI:https://www.vallgorguina.cat/actualitat/agenda/taller-matricules-cat.html
CLASS:PUBLIC
END:VEVENT
END:VCALENDAR
