BEGIN:VCALENDAR
VERSION:2.0
CALSCALE:GREGORIAN
PRODID:-//Diputació de Barcelona//DibaCMS//EN
BEGIN:VEVENT
UID:10925
DTSTAMP:20260420T062535
DTSTART:20250417T090000
DTEND:20250417T120000
SUMMARY:Petanca de Pasqua- Tripletes fetes
LOCATION:
METHOD:PUBLISH
X-WR-CALNAME:vallgorguina@vallgorguina.cat
X-WR-TIMEZONE:Europe/Madrid
DESCRIPTION:A la plaça de la vila. 

URI:https://www.vallgorguina.cat/actualitat/agenda/petanca-de-pasqua-tripletes-fetes.html
CLASS:PUBLIC
END:VEVENT
END:VCALENDAR
