BEGIN:VCALENDAR
VERSION:2.0
CALSCALE:GREGORIAN
PRODID:-//Diputació de Barcelona//DibaCMS//EN
BEGIN:VEVENT
UID:10927
DTSTAMP:20260420T060552
DTSTART:20250518T090000
DTEND:20250518T140000
SUMMARY:XIV Trobada vehicles clàssics a Vallgorguina
LOCATION:
METHOD:PUBLISH
X-WR-CALNAME:vallgorguina@vallgorguina.cat
X-WR-TIMEZONE:Europe/Madrid
DESCRIPTION:
URI:https://www.vallgorguina.cat/actualitat/agenda/xiv-trobada-vehicles-classics-a-vallgorguina.html
CLASS:PUBLIC
END:VEVENT
END:VCALENDAR
