BEGIN:VCALENDAR
VERSION:2.0
CALSCALE:GREGORIAN
PRODID:-//Diputació de Barcelona//DibaCMS//EN
BEGIN:VEVENT
UID:10970
DTSTAMP:20260420T041125
DTSTART:20250623T180000
DTEND:20250623T180000
SUMMARY:Rebuda de la Flama del Canigó 2025
LOCATION:
METHOD:PUBLISH
X-WR-CALNAME:vallgorguina@vallgorguina.cat
X-WR-TIMEZONE:Europe/Madrid
DESCRIPTION:
URI:https://www.vallgorguina.cat/actualitat/agenda/rebuda-de-la-flama-del-canigo-2025.html
CLASS:PUBLIC
END:VEVENT
END:VCALENDAR
