BEGIN:VCALENDAR
VERSION:2.0
CALSCALE:GREGORIAN
PRODID:-//Diputació de Barcelona//DibaCMS//EN
BEGIN:VEVENT
UID:10971
DTSTAMP:20260420T034419
DTSTART:20250623T210000
DTEND:20250623T210000
SUMMARY:Revetlla popular de Sant Joan
LOCATION:Plaça de la Vila 
METHOD:PUBLISH
X-WR-CALNAME:vallgorguina@vallgorguina.cat
X-WR-TIMEZONE:Europe/Madrid
DESCRIPTION:
URI:https://www.vallgorguina.cat/actualitat/agenda/revetlla-popular-de-sant-joan.html
CLASS:PUBLIC
END:VEVENT
END:VCALENDAR
