BEGIN:VCALENDAR
VERSION:2.0
CALSCALE:GREGORIAN
PRODID:-//Diputació de Barcelona//DibaCMS//EN
BEGIN:VEVENT
UID:10978
DTSTAMP:20260420T060327
DTSTART:20250518T100000
DTEND:20250518T140000
SUMMARY:Passejada suau: La riera de Vallgorguina
LOCATION:
METHOD:PUBLISH
X-WR-CALNAME:vallgorguina@vallgorguina.cat
X-WR-TIMEZONE:Europe/Madrid
DESCRIPTION:
URI:https://www.vallgorguina.cat/actualitat/agenda/passejada-suau-la-riera-de-vallgorguina.html
CLASS:PUBLIC
END:VEVENT
END:VCALENDAR
