BEGIN:VCALENDAR
VERSION:2.0
CALSCALE:GREGORIAN
PRODID:-//Diputació de Barcelona//DibaCMS//EN
BEGIN:VEVENT
UID:10982
DTSTAMP:20260420T042918
DTSTART:20250517T000000
DTEND:20250517T230000
SUMMARY:Dia Internacional contra la LGTBI-fòbia
LOCATION:
METHOD:PUBLISH
X-WR-CALNAME:vallgorguina@vallgorguina.cat
X-WR-TIMEZONE:Europe/Madrid
DESCRIPTION:
URI:https://www.vallgorguina.cat/actualitat/agenda/dia-internacional-contra-la-lgtbi-fobia.html
CLASS:PUBLIC
END:VEVENT
END:VCALENDAR
