BEGIN:VCALENDAR
VERSION:2.0
CALSCALE:GREGORIAN
PRODID:-//Diputació de Barcelona//DibaCMS//EN
BEGIN:VEVENT
UID:10985
DTSTAMP:20260420T020917
DTSTART:20250601T113000
DTEND:20250601T140000
SUMMARY:Xerrada sobre Ruanda amb en Ramon Godino
LOCATION:
METHOD:PUBLISH
X-WR-CALNAME:vallgorguina@vallgorguina.cat
X-WR-TIMEZONE:Europe/Madrid
DESCRIPTION:A les 11 hores a la plaça de la Vila. 

URI:https://www.vallgorguina.cat/actualitat/agenda/xerrada-sobre-ruanda-amb-en-ramon-godino.html
CLASS:PUBLIC
END:VEVENT
END:VCALENDAR
