BEGIN:VCALENDAR
VERSION:2.0
CALSCALE:GREGORIAN
PRODID:-//Diputació de Barcelona//DibaCMS//EN
BEGIN:VEVENT
UID:10988
DTSTAMP:20260420T060844
DTSTART:20250524T100000
DTEND:20250524T133000
SUMMARY:Competició de robots - Fira científica
LOCATION:
METHOD:PUBLISH
X-WR-CALNAME:vallgorguina@vallgorguina.cat
X-WR-TIMEZONE:Europe/Madrid
DESCRIPTION:
URI:https://www.vallgorguina.cat/actualitat/agenda/competicio-de-robots-fira-cientifica.html
CLASS:PUBLIC
END:VEVENT
END:VCALENDAR
