BEGIN:VCALENDAR
VERSION:2.0
CALSCALE:GREGORIAN
PRODID:-//Diputació de Barcelona//DibaCMS//EN
BEGIN:VEVENT
UID:10989
DTSTAMP:20260420T021648
DTSTART:20250524T180000
DTEND:20250524T200000
SUMMARY:Final de la Champions League femení
LOCATION:08471 Vallgorguina
METHOD:PUBLISH
X-WR-CALNAME:vallgorguina@vallgorguina.cat
X-WR-TIMEZONE:Europe/Madrid
DESCRIPTION:
URI:https://www.vallgorguina.cat/actualitat/agenda/final-de-la-champions-league-femeni.html
CLASS:PUBLIC
END:VEVENT
END:VCALENDAR
