BEGIN:VCALENDAR
VERSION:2.0
CALSCALE:GREGORIAN
PRODID:-//Diputació de Barcelona//DibaCMS//EN
BEGIN:VEVENT
UID:10992
DTSTAMP:20260420T021439
DTSTART:20250604T160000
DTEND:20250604T170000
SUMMARY:Junta Govern Local 
LOCATION:Sala Virtual 
METHOD:PUBLISH
X-WR-CALNAME:vallgorguina@vallgorguina.cat
X-WR-TIMEZONE:Europe/Madrid
DESCRIPTION:Sessió parcialment pública. Podeu consultar els punts públics al següent enllaç.

URI:https://www.vallgorguina.cat/actualitat/agenda/10992-junta-govern-local-.html
CLASS:PUBLIC
END:VEVENT
END:VCALENDAR
