BEGIN:VCALENDAR
VERSION:2.0
CALSCALE:GREGORIAN
PRODID:-//Diputació de Barcelona//DibaCMS//EN
BEGIN:VEVENT
UID:10999
DTSTAMP:20260420T015307
DTSTART:20250621T073000
DTEND:20250621T140000
SUMMARY:Caminem per l'ELA - Vallgorguina
LOCATION:
METHOD:PUBLISH
X-WR-CALNAME:vallgorguina@vallgorguina.cat
X-WR-TIMEZONE:Europe/Madrid
DESCRIPTION:8.30 h - Trobada a la plaça St. Andreu.

URI:https://www.vallgorguina.cat/actualitat/agenda/caminem-per-lela-vallgorguina.html
CLASS:PUBLIC
END:VEVENT
END:VCALENDAR
