BEGIN:VCALENDAR
VERSION:2.0
CALSCALE:GREGORIAN
PRODID:-//Diputació de Barcelona//DibaCMS//EN
BEGIN:VEVENT
UID:11007
DTSTAMP:20260420T033732
DTSTART:20250627T183000
DTEND:20250627T200000
SUMMARY:Sessió informativa: Protegeix-te dels incendis forestals. Autoprotecció en urbanitzacions i cases aïllades
LOCATION:
METHOD:PUBLISH
X-WR-CALNAME:vallgorguina@vallgorguina.cat
X-WR-TIMEZONE:Europe/Madrid
DESCRIPTION:
URI:https://www.vallgorguina.cat/actualitat/agenda/sessio-informativa-protegeix-te-dels-incendis-forestals-autoproteccio-en-urbanitzacions-i-cases-aillades.html
CLASS:PUBLIC
END:VEVENT
END:VCALENDAR
