BEGIN:VCALENDAR
VERSION:2.0
CALSCALE:GREGORIAN
PRODID:-//Diputació de Barcelona//DibaCMS//EN
BEGIN:VEVENT
UID:11008
DTSTAMP:20260420T020803
DTSTART:20250617T153000
DTEND:20250617T183000
SUMMARY:INCIDÈNCIA Bibliobús
LOCATION:Plaça Mossèn Narcís Saguer 08471 Vallgorguina
METHOD:PUBLISH
X-WR-CALNAME:vallgorguina@vallgorguina.cat
X-WR-TIMEZONE:Europe/Madrid
DESCRIPTION:
URI:https://www.vallgorguina.cat/actualitat/agenda/11008-incidencia-bibliobus.html
CLASS:PUBLIC
END:VEVENT
END:VCALENDAR
