BEGIN:VCALENDAR
VERSION:2.0
CALSCALE:GREGORIAN
PRODID:-//Diputació de Barcelona//DibaCMS//EN
BEGIN:VEVENT
UID:11032
DTSTAMP:20260420T001455
DTSTART:20250718T203000
DTEND:20250718T203000
SUMMARY:Festa Major Canadà Parc    18, 19 i 20 juliol
LOCATION:
METHOD:PUBLISH
X-WR-CALNAME:vallgorguina@vallgorguina.cat
X-WR-TIMEZONE:Europe/Madrid
DESCRIPTION:
URI:https://www.vallgorguina.cat/actualitat/agenda/festa-major-canada-parc-18-19-i-20-juliol.html
CLASS:PUBLIC
END:VEVENT
END:VCALENDAR
