BEGIN:VCALENDAR
VERSION:2.0
CALSCALE:GREGORIAN
PRODID:-//Diputació de Barcelona//DibaCMS//EN
BEGIN:VEVENT
UID:11034
DTSTAMP:20260420T001829
DTSTART:20250808T220000
DTEND:20250808T220000
SUMMARY:Caminada sota la llum de la lluna
LOCATION:Plaça Sant Andreu 
METHOD:PUBLISH
X-WR-CALNAME:vallgorguina@vallgorguina.cat
X-WR-TIMEZONE:Europe/Madrid
DESCRIPTION:
URI:https://www.vallgorguina.cat/actualitat/agenda/11034-caminada-sota-la-llum-de-la-lluna.html
CLASS:PUBLIC
END:VEVENT
END:VCALENDAR
